BEGIN:VCALENDAR
VERSION:2.0
PRODID:-//SVP Kriens //NONSGML Events //EN
CALSCALE:GREGORIAN
X-WR-CALNAME:SVP Kriens
BEGIN:VEVENT
CREATED:20250929T153643Z
UID:2181
DTEND:20261022T200000
DTSTART:20261022T193000
DTSTAMP:20260425T142110Z
LOCATION:Pilatussaal (Stadthaus Kriens)
DESCRIPTION:
SUMMARY:Delegiertenversammlung SVP Kanton Luzern
ORGANIZER:SVP Kriens
URL;VALUE=URI:https://www.svp-kriens.ch/termine/delegiertenversammlung-svp-kanton-luzern/
TRANSP:OPAQUE
END:VEVENT
END:VCALENDAR
